BEGIN:VCALENDAR
VERSION:2.0
PRODID:-//PSOE Alcobendas - ECPv6.15.20//NONSGML v1.0//EN
CALSCALE:GREGORIAN
METHOD:PUBLISH
X-WR-CALNAME:PSOE Alcobendas
X-ORIGINAL-URL:https://psoealcobendas.com
X-WR-CALDESC:Eventos para PSOE Alcobendas
REFRESH-INTERVAL;VALUE=DURATION:PT1H
X-Robots-Tag:noindex
X-PUBLISHED-TTL:PT1H
BEGIN:VTIMEZONE
TZID:Europe/Madrid
BEGIN:DAYLIGHT
TZOFFSETFROM:+0100
TZOFFSETTO:+0200
TZNAME:CEST
DTSTART:20250330T010000
END:DAYLIGHT
BEGIN:STANDARD
TZOFFSETFROM:+0200
TZOFFSETTO:+0100
TZNAME:CET
DTSTART:20251026T010000
END:STANDARD
BEGIN:DAYLIGHT
TZOFFSETFROM:+0100
TZOFFSETTO:+0200
TZNAME:CEST
DTSTART:20260329T010000
END:DAYLIGHT
BEGIN:STANDARD
TZOFFSETFROM:+0200
TZOFFSETTO:+0100
TZNAME:CET
DTSTART:20261025T010000
END:STANDARD
BEGIN:DAYLIGHT
TZOFFSETFROM:+0100
TZOFFSETTO:+0200
TZNAME:CEST
DTSTART:20270328T010000
END:DAYLIGHT
BEGIN:STANDARD
TZOFFSETFROM:+0200
TZOFFSETTO:+0100
TZNAME:CET
DTSTART:20271031T010000
END:STANDARD
END:VTIMEZONE
BEGIN:VEVENT
DTSTART;TZID=Europe/Madrid:20260420T153000
DTEND;TZID=Europe/Madrid:20260420T163000
DTSTAMP:20260420T122247
CREATED:20260420T075316Z
LAST-MODIFIED:20260420T075316Z
UID:12900-1776699000-1776702600@psoealcobendas.com
SUMMARY:REPARTO INFORMACIÓN EN LOS COLEGIOS PÚBLICOS
DESCRIPTION:Desde el PSOE de Alcobendas iniciamos una serie de acciones informativas en distintos colegios del municipio para dar a conocer nuestra propuesta de climatización en las aulas. \n📅 Lunes 20 de abrilCEIP Emilio Casado y CEIP 6 de Diciembre🕒 15:45 h – CEIP Emilio Casado \n📅 Martes 21 de abrilCEIP Antonio Machado y CEIP Miraflores🕒 8:45 h – CEIP Antonio Machado \n📅 Viernes 24 de abrilCEIP Daoiz y Velarde🕒 8:45 h – CEIP Daoiz y Velarde
URL:https://psoealcobendas.com/evento/reparto-informacion-en-los-colegios-publicos/
ATTACH;FMTTYPE=image/png:https://psoealcobendas.com/wp-content/uploads/2026/04/REPARTO-RENFE-IG-Post-de-Instagram-4.png
END:VEVENT
END:VCALENDAR