BEGIN:VCALENDAR
VERSION:2.0
PRODID:-//PSOE Alcobendas - ECPv6.15.20//NONSGML v1.0//EN
CALSCALE:GREGORIAN
METHOD:PUBLISH
X-ORIGINAL-URL:https://psoealcobendas.com
X-WR-CALDESC:Eventos para PSOE Alcobendas
REFRESH-INTERVAL;VALUE=DURATION:PT1H
X-Robots-Tag:noindex
X-PUBLISHED-TTL:PT1H
BEGIN:VTIMEZONE
TZID:Europe/Madrid
BEGIN:DAYLIGHT
TZOFFSETFROM:+0100
TZOFFSETTO:+0200
TZNAME:CEST
DTSTART:20250330T010000
END:DAYLIGHT
BEGIN:STANDARD
TZOFFSETFROM:+0200
TZOFFSETTO:+0100
TZNAME:CET
DTSTART:20251026T010000
END:STANDARD
BEGIN:DAYLIGHT
TZOFFSETFROM:+0100
TZOFFSETTO:+0200
TZNAME:CEST
DTSTART:20260329T010000
END:DAYLIGHT
BEGIN:STANDARD
TZOFFSETFROM:+0200
TZOFFSETTO:+0100
TZNAME:CET
DTSTART:20261025T010000
END:STANDARD
BEGIN:DAYLIGHT
TZOFFSETFROM:+0100
TZOFFSETTO:+0200
TZNAME:CEST
DTSTART:20270328T010000
END:DAYLIGHT
BEGIN:STANDARD
TZOFFSETFROM:+0200
TZOFFSETTO:+0100
TZNAME:CET
DTSTART:20271031T010000
END:STANDARD
END:VTIMEZONE
BEGIN:VEVENT
DTSTART;TZID=Europe/Madrid:20260312T183000
DTEND;TZID=Europe/Madrid:20260312T203000
DTSTAMP:20260423T040517
CREATED:20260303T115916Z
LAST-MODIFIED:20260303T115916Z
UID:12843-1773340200-1773347400@psoealcobendas.com
SUMMARY:PREMIO SOCIALISTA POR LA IGUALDAD 8M
DESCRIPTION:Con motivo del Día Internacional de las Mujeres\, el PSOE de Alcobendas celebra la segunda edición del Premio Socialista por la Igualdad 8M\, un reconocimiento a trayectorias comprometidas con la defensa de los derechos de las mujeres y el avance hacia una igualdad real y efectiva en nuestra ciudad. \nEn esta edición\, el galardón será entregado a Mercedes Jiménez\, en reconocimiento a su labor en la promoción de la igualdad en Alcobendas y su compromiso con la Agrupación Socialista local. \nEl acto tendrá lugar el jueves 12 de marzo a las 18:30 horas en la Sala Cubo del Centro Cultural Miguel Delibes.
URL:https://psoealcobendas.com/evento/premio-socialista-por-la-igualdad-8m/
LOCATION:UP Miguel Delibes\, Avenida de la Magia\, 4\, Alcobendas\, Madrid\, 28100\, España
CATEGORIES:ACTO PÚBLICO
ATTACH;FMTTYPE=image/png:https://psoealcobendas.com/wp-content/uploads/2026/03/Invitacion-virtual-de-acto-escolar-de-juramento-a-la-bandera-ilustrado-verde-blanco-y-rojo-Post-de-Instagram.png
END:VEVENT
END:VCALENDAR