BEGIN:VCALENDAR
VERSION:2.0
PRODID:-//PSOE Alcobendas - ECPv6.15.20//NONSGML v1.0//EN
CALSCALE:GREGORIAN
METHOD:PUBLISH
X-WR-CALNAME:PSOE Alcobendas
X-ORIGINAL-URL:https://psoealcobendas.com
X-WR-CALDESC:Eventos para PSOE Alcobendas
REFRESH-INTERVAL;VALUE=DURATION:PT1H
X-Robots-Tag:noindex
X-PUBLISHED-TTL:PT1H
BEGIN:VTIMEZONE
TZID:Europe/Madrid
BEGIN:DAYLIGHT
TZOFFSETFROM:+0100
TZOFFSETTO:+0200
TZNAME:CEST
DTSTART:20250330T010000
END:DAYLIGHT
BEGIN:STANDARD
TZOFFSETFROM:+0200
TZOFFSETTO:+0100
TZNAME:CET
DTSTART:20251026T010000
END:STANDARD
BEGIN:DAYLIGHT
TZOFFSETFROM:+0100
TZOFFSETTO:+0200
TZNAME:CEST
DTSTART:20260329T010000
END:DAYLIGHT
BEGIN:STANDARD
TZOFFSETFROM:+0200
TZOFFSETTO:+0100
TZNAME:CET
DTSTART:20261025T010000
END:STANDARD
BEGIN:DAYLIGHT
TZOFFSETFROM:+0100
TZOFFSETTO:+0200
TZNAME:CEST
DTSTART:20270328T010000
END:DAYLIGHT
BEGIN:STANDARD
TZOFFSETFROM:+0200
TZOFFSETTO:+0100
TZNAME:CET
DTSTART:20271031T010000
END:STANDARD
END:VTIMEZONE
BEGIN:VEVENT
DTSTART;TZID=Europe/Madrid:20260310T183000
DTEND;TZID=Europe/Madrid:20260310T203000
DTSTAMP:20260423T074117
CREATED:20260303T120142Z
LAST-MODIFIED:20260303T120142Z
UID:12846-1773167400-1773174600@psoealcobendas.com
SUMMARY:ASAMBLEA EXTRAORDINARIA PONENCIA MARCO IGUALDAD
DESCRIPTION:La Agrupación Socialista de Alcobendas celebrará una Asamblea Extraordinaria para debatir y decidir sobre la ponencia marco relativa a igualdad. \nLa asamblea tendrá lugar el martes 10 de marzo en la Casa del Pueblo (C/ Francisco Largo Caballero\, 44)\, a las 18:30h en primera convocatoria y a las 19:00h en segunda convocatoria.
URL:https://psoealcobendas.com/evento/asamblea-extraordinaria-ponencia-marco-igualdad/
LOCATION:Agrupación Socialista Alcobendas\, Calle de Fco. Largo Caballero\, 44\, Local 1-2\, 28100 Alcobendas\, Madrid\, Madrid\, España
ATTACH;FMTTYPE=image/png:https://psoealcobendas.com/wp-content/uploads/2026/03/Copia-de-Copia-de-ASAMBLEA-EXTRAORDINARIA-1.png
END:VEVENT
END:VCALENDAR