BEGIN:VCALENDAR
VERSION:2.0
PRODID:-//PSOE Alcobendas - ECPv6.15.20//NONSGML v1.0//EN
CALSCALE:GREGORIAN
METHOD:PUBLISH
X-WR-CALNAME:PSOE Alcobendas
X-ORIGINAL-URL:https://psoealcobendas.com
X-WR-CALDESC:Eventos para PSOE Alcobendas
REFRESH-INTERVAL;VALUE=DURATION:PT1H
X-Robots-Tag:noindex
X-PUBLISHED-TTL:PT1H
BEGIN:VTIMEZONE
TZID:Europe/Madrid
BEGIN:DAYLIGHT
TZOFFSETFROM:+0100
TZOFFSETTO:+0200
TZNAME:CEST
DTSTART:20250330T010000
END:DAYLIGHT
BEGIN:STANDARD
TZOFFSETFROM:+0200
TZOFFSETTO:+0100
TZNAME:CET
DTSTART:20251026T010000
END:STANDARD
BEGIN:DAYLIGHT
TZOFFSETFROM:+0100
TZOFFSETTO:+0200
TZNAME:CEST
DTSTART:20260329T010000
END:DAYLIGHT
BEGIN:STANDARD
TZOFFSETFROM:+0200
TZOFFSETTO:+0100
TZNAME:CET
DTSTART:20261025T010000
END:STANDARD
BEGIN:DAYLIGHT
TZOFFSETFROM:+0100
TZOFFSETTO:+0200
TZNAME:CEST
DTSTART:20270328T010000
END:DAYLIGHT
BEGIN:STANDARD
TZOFFSETFROM:+0200
TZOFFSETTO:+0100
TZNAME:CET
DTSTART:20271031T010000
END:STANDARD
END:VTIMEZONE
BEGIN:VEVENT
DTSTART;TZID=Europe/Madrid:20260309T193000
DTEND;TZID=Europe/Madrid:20260309T203000
DTSTAMP:20260423T091519
CREATED:20260303T121136Z
LAST-MODIFIED:20260303T121136Z
UID:12856-1773084600-1773088200@psoealcobendas.com
SUMMARY:Comisión Ejecutiva Municipal
DESCRIPTION:Sesión ordinaria de la Comisión Ejecutiva Municipal para abordar el seguimiento político y organizativo del partido\, revisar la planificación de actividades y coordinar las próximas iniciativas en Alcobendas.
URL:https://psoealcobendas.com/evento/comision-ejecutiva-municipal-7/
ATTACH;FMTTYPE=image/jpeg:https://psoealcobendas.com/wp-content/uploads/2025/12/WhatsApp-Image-2025-12-01-at-10.36.50-scaled-e1764581852237.jpeg
END:VEVENT
END:VCALENDAR